BEGIN:VCALENDAR
VERSION:2.0
PRODID:spatie/icalendar-generator
DESCRIPTION:Events from Národní platforma Open Science
X-WR-CALDESC:Events from Národní platforma Open Science
REFRESH-INTERVAL;VALUE=DURATION:PT1440M
X-PUBLISHED-TTL:PT1440M
BEGIN:VTIMEZONE
TZID:Etc/GMT+0
BEGIN:STANDARD
DTSTART:20250106T000000Z
TZOFFSETFROM:+0000
TZOFFSETTO:+0000
END:STANDARD
END:VTIMEZONE
BEGIN:VTIMEZONE
TZID:UTC
BEGIN:STANDARD
DTSTART:20250723T202734Z
TZOFFSETFROM:+0000
TZOFFSETTO:+0000
END:STANDARD
END:VTIMEZONE
BEGIN:VEVENT
UID:138-137
DTSTAMP:20260419T202734Z
SUMMARY:Oborové repozitáře pro STEM
LOCATION:
ORGANIZER;CN=admin:MAILTO:admin@openscience.cz
DTSTART;TZID=Etc/GMT+0;VALUE=DATE:20251003
DTEND;TZID=Etc/GMT+0;VALUE=DATE:20251004
X-ALT-DESC;FMTTYPE=TEXT/HTML:<p>Online webinář</p>\n<p>Bližší informac
 e a možnost registrace jsou k dispozici na <a href="https://www.eosc.cz/
 novinky-a-akce/kalendar-akci/oborove-repozitare-pro-stem" target="_blank
 ">webu události</a>.</p>\n
CATEGORIES:
URL;VALUE=URI:https://openscience.cz/mc-events/oborove-repozitare-pro-stem/
 ?mc_id=138
END:VEVENT
END:VCALENDAR