BEGIN:VCALENDAR
VERSION:2.0
PRODID:spatie/icalendar-generator
DESCRIPTION:Events from Národní platforma Open Science
X-WR-CALDESC:Events from Národní platforma Open Science
REFRESH-INTERVAL;VALUE=DURATION:PT1440M
X-PUBLISHED-TTL:PT1440M
BEGIN:VTIMEZONE
TZID:Etc/GMT+0
BEGIN:STANDARD
DTSTART:20250307T000000Z
TZOFFSETFROM:+0000
TZOFFSETTO:+0000
END:STANDARD
END:VTIMEZONE
BEGIN:VTIMEZONE
TZID:UTC
BEGIN:STANDARD
DTSTART:20250723T191309Z
TZOFFSETFROM:+0000
TZOFFSETTO:+0000
END:STANDARD
END:VTIMEZONE
BEGIN:VEVENT
UID:143-142
DTSTAMP:20260419T191309Z
SUMMARY:Národní konference EOSC CZ 2025
LOCATION:
ORGANIZER;CN=admin:MAILTO:admin@openscience.cz
DTSTART;TZID=Etc/GMT+0;VALUE=DATE:20251202
DTEND;TZID=Etc/GMT+0;VALUE=DATE:20251204
X-ALT-DESC;FMTTYPE=TEXT/HTML:<p>Long Live Research Data</p>\n<p>Místo kon
 ání: Ostrava</p>\n<p>Bližší informace a možnost registrace jsou k di
 spozici na <a href="https://www.eosc.cz/novinky-a-akce/konference-2025" target="_blank">webu konference</a>.</p>\n
CATEGORIES:
URL;VALUE=URI:https://openscience.cz/mc-events/narodni-konference-eosc-cz-2
 025/?mc_id=143
END:VEVENT
END:VCALENDAR