BEGIN:VCALENDAR
VERSION:2.0
PRODID:spatie/icalendar-generator
DESCRIPTION:Events from Národní platforma Open Science
X-WR-CALDESC:Events from Národní platforma Open Science
REFRESH-INTERVAL;VALUE=DURATION:PT1440M
X-PUBLISHED-TTL:PT1440M
BEGIN:VTIMEZONE
TZID:Etc/GMT+0
BEGIN:STANDARD
DTSTART:20250222T000000Z
TZOFFSETFROM:+0000
TZOFFSETTO:+0000
END:STANDARD
END:VTIMEZONE
BEGIN:VTIMEZONE
TZID:UTC
BEGIN:STANDARD
DTSTART:20250723T221843Z
TZOFFSETFROM:+0000
TZOFFSETTO:+0000
END:STANDARD
END:VTIMEZONE
BEGIN:VEVENT
UID:156-155
DTSTAMP:20260419T221843Z
SUMMARY:Prepare your team for effective data management (plans)
LOCATION:
ORGANIZER;CN=admin:MAILTO:admin@openscience.cz
DTSTART;TZID=Etc/GMT+0;VALUE=DATE:20251119
DTEND;TZID=Etc/GMT+0;VALUE=DATE:20251120
X-ALT-DESC;FMTTYPE=TEXT/HTML:<p>Pořadatel: EOSC CZ</p>\n<p>Online</p>\n<p>
 Webinář proběhne v angličtině</p>\n<p>Bližší informace a možnost 
 registrace jsou k dispozici na <a href="https://www.eosc.cz/novinky-a-akc
 e/kalendar-akci/prepare-your-team-for-effective-data-management-plans">webové stránce webináře</a>.</p>\n
CATEGORIES:
URL;VALUE=URI:https://openscience.cz/mc-events/prepare-your-team-for-effect
 ive-data-management-plans/?mc_id=156
END:VEVENT
END:VCALENDAR