BEGIN:VCALENDAR
VERSION:2.0
PRODID:spatie/icalendar-generator
DESCRIPTION:Events from Národní platforma Open Science
X-WR-CALDESC:Events from Národní platforma Open Science
REFRESH-INTERVAL;VALUE=DURATION:PT1440M
X-PUBLISHED-TTL:PT1440M
BEGIN:VTIMEZONE
TZID:Etc/GMT+0
BEGIN:STANDARD
DTSTART:20250223T000000Z
TZOFFSETFROM:+0000
TZOFFSETTO:+0000
END:STANDARD
END:VTIMEZONE
BEGIN:VTIMEZONE
TZID:UTC
BEGIN:STANDARD
DTSTART:20250723T234812Z
TZOFFSETFROM:+0000
TZOFFSETTO:+0000
END:STANDARD
END:VTIMEZONE
BEGIN:VEVENT
UID:157-156
DTSTAMP:20260419T234812Z
SUMMARY:Webinář k připravované výzvě Open Science III
LOCATION:
ORGANIZER;CN=admin:MAILTO:admin@openscience.cz
DTSTART;TZID=Etc/GMT+0;VALUE=DATE:20251120
DTEND;TZID=Etc/GMT+0;VALUE=DATE:20251121
X-ALT-DESC;FMTTYPE=TEXT/HTML:<p>Pořadatel: EOSC CZ</p>\n<p>Bližší infor
 mace a možnost registrace jsou k dispozici na <a href="https://www.eosc.
 cz/projekty/open-science-iii-os-iii" target="_blank">webové stránce w
 ebináře</a>.</p>\n
CATEGORIES:
URL;VALUE=URI:https://openscience.cz/mc-events/webinar-k-pripravovane-vyzve
 -open-science-iii/?mc_id=157
END:VEVENT
END:VCALENDAR