BEGIN:VCALENDAR
VERSION:2.0
PRODID:spatie/icalendar-generator
DESCRIPTION:Events from Národní platforma Open Science
X-WR-CALDESC:Events from Národní platforma Open Science
REFRESH-INTERVAL;VALUE=DURATION:PT1440M
X-PUBLISHED-TTL:PT1440M
BEGIN:VTIMEZONE
TZID:Etc/GMT+0
BEGIN:STANDARD
DTSTART:20250228T000000Z
TZOFFSETFROM:+0000
TZOFFSETTO:+0000
END:STANDARD
END:VTIMEZONE
BEGIN:VTIMEZONE
TZID:UTC
BEGIN:STANDARD
DTSTART:20250723T205422Z
TZOFFSETFROM:+0000
TZOFFSETTO:+0000
END:STANDARD
END:VTIMEZONE
BEGIN:VEVENT
UID:158-157
DTSTAMP:20260419T205422Z
SUMMARY:Možnosti ochrany duševního vlastnictví v EU: otevřené zdroje 
 průmyslových práv a jejich využití
LOCATION:NTK - Národní technická knihovna Technická 6  Praha  16000
ORGANIZER;CN=admin:MAILTO:admin@openscience.cz
DTSTART;TZID=Etc/GMT+0;VALUE=DATE:20251125
DTEND;TZID=Etc/GMT+0;VALUE=DATE:20251126
X-ALT-DESC;FMTTYPE=TEXT/HTML:<p>Pořadatel: Národní technická knihovna</
 p>\n<p>Bližší informace a možnost registrace jsou k dispozici na <a target="_blank">webové stránce události</a>.</p>\n
CATEGORIES:
URL;VALUE=URI:https://openscience.cz/mc-events/moznosti-ochrany-dusevniho-v
 lastnictvi-v-eu-otevrene-zdroje-prumyslovych-prav-a-jejich-vyuziti/?mc_id=
 158
END:VEVENT
END:VCALENDAR