BEGIN:VCALENDAR
VERSION:2.0
PRODID:spatie/icalendar-generator
DESCRIPTION:Events from Národní platforma Open Science
X-WR-CALDESC:Events from Národní platforma Open Science
REFRESH-INTERVAL;VALUE=DURATION:PT1440M
X-PUBLISHED-TTL:PT1440M
BEGIN:VTIMEZONE
TZID:Etc/GMT+0
BEGIN:STANDARD
DTSTART:20250309T000000Z
TZOFFSETFROM:+0000
TZOFFSETTO:+0000
END:STANDARD
END:VTIMEZONE
BEGIN:VTIMEZONE
TZID:UTC
BEGIN:STANDARD
DTSTART:20250723T172504Z
TZOFFSETFROM:+0000
TZOFFSETTO:+0000
END:STANDARD
END:VTIMEZONE
BEGIN:VEVENT
UID:163-162
DTSTAMP:20260419T172504Z
SUMMARY:DIAMOND ERA – Fostering Openness in the European Research Area
LOCATION:
ORGANIZER;CN=admin:MAILTO:admin@openscience.cz
DTSTART;TZID=Etc/GMT+0;VALUE=DATE:20251204
DTEND;TZID=Etc/GMT+0;VALUE=DATE:20251205
X-ALT-DESC;FMTTYPE=TEXT/HTML:<p>Místo konání: Brusel\, Belgie</p>\n<p>Bl
 ižší informace a možnost registrace jsou k dispozici na <a href="https://operas.pl/diamond-era/" target="_blank">webové stránce události</a>.</p>\n
CATEGORIES:
URL;VALUE=URI:https://openscience.cz/mc-events/diamond-era-fostering-openne
 ss-in-the-european-research-area/?mc_id=163
END:VEVENT
END:VCALENDAR