BEGIN:VCALENDAR
VERSION:2.0
PRODID:spatie/icalendar-generator
DESCRIPTION:Events from Národní platforma Open Science
X-WR-CALDESC:Events from Národní platforma Open Science
REFRESH-INTERVAL;VALUE=DURATION:PT1440M
X-PUBLISHED-TTL:PT1440M
BEGIN:VTIMEZONE
TZID:Etc/GMT+0
BEGIN:STANDARD
DTSTART:20250504T000000Z
TZOFFSETFROM:+0000
TZOFFSETTO:+0000
END:STANDARD
END:VTIMEZONE
BEGIN:VTIMEZONE
TZID:UTC
BEGIN:STANDARD
DTSTART:20250723T221433Z
TZOFFSETFROM:+0000
TZOFFSETTO:+0000
END:STANDARD
END:VTIMEZONE
BEGIN:VEVENT
UID:166-165
DTSTAMP:20260419T221433Z
SUMMARY:Beyond the Ivory Tower – The Real-World Importance of Open Access
  Today
LOCATION:
ORGANIZER;CN=admin:MAILTO:admin@openscience.cz
DTSTART;TZID=Etc/GMT+0;VALUE=DATE:20260129
DTEND;TZID=Etc/GMT+0;VALUE=DATE:20260130
X-ALT-DESC;FMTTYPE=TEXT/HTML:<p>Pořadatel: OASPA</p>\n<p>Bližší informa
 ce a možnost registrace jsou k dispozici na <a href="https://us02web.zoo
 m.us/webinar/register/WN_N-2jxmHHRCmRklybWt7m7Q#/registration" target="_
 blank">webové stránce webináře</a>.</p>\n<p>Záznam webináře lze pu
 stit <a href="https://www.youtube.com/watch?v=-k1gs7FpbFo" target="_bla
 nk">na YouTube</a>.</p>\n
CATEGORIES:
URL;VALUE=URI:https://openscience.cz/mc-events/beyond-the-ivory-tower-the-r
 eal-world-importance-of-open-access-today/?mc_id=166
END:VEVENT
END:VCALENDAR