BEGIN:VCALENDAR
VERSION:2.0
PRODID:spatie/icalendar-generator
DESCRIPTION:Events from Národní platforma Open Science
X-WR-CALDESC:Events from Národní platforma Open Science
REFRESH-INTERVAL;VALUE=DURATION:PT1440M
X-PUBLISHED-TTL:PT1440M
BEGIN:VTIMEZONE
TZID:Etc/GMT+0
BEGIN:STANDARD
DTSTART:20250511T000000Z
TZOFFSETFROM:+0000
TZOFFSETTO:+0000
END:STANDARD
END:VTIMEZONE
BEGIN:VTIMEZONE
TZID:UTC
BEGIN:STANDARD
DTSTART:20250723T200248Z
TZOFFSETFROM:+0000
TZOFFSETTO:+0000
END:STANDARD
END:VTIMEZONE
BEGIN:VEVENT
UID:170-169
DTSTAMP:20260419T200248Z
SUMMARY:The Open Access–AI Conundrum – does free to read mean free to t
 rain?
LOCATION:
ORGANIZER;CN=admin:MAILTO:admin@openscience.cz
DTSTART;TZID=Etc/GMT+0;VALUE=DATE:20260205
DTEND;TZID=Etc/GMT+0;VALUE=DATE:20260206
X-ALT-DESC;FMTTYPE=TEXT/HTML:<p>Webinář zdarma</p>\n<p>Pořadatel: <a target="_blank">UKSG</a></p>\n<p>Bližší i
 nformace a možnost registrace jsou k dispozici na <a href="https://www.u
 ksg.org/events/free-uksg-webinar-the-open-access-ai-conundrum-does-free-to
 -read-mean-free-to-train/" target="_blank">webové stránce webináře</a>.</p>\n
CATEGORIES:
URL;VALUE=URI:https://openscience.cz/mc-events/the-open-access-ai-conundrum
 -does-free-to-read-mean-free-to-train/?mc_id=170
END:VEVENT
END:VCALENDAR