BEGIN:VCALENDAR
VERSION:2.0
PRODID:spatie/icalendar-generator
DESCRIPTION:Events from Národní platforma Open Science
X-WR-CALDESC:Events from Národní platforma Open Science
REFRESH-INTERVAL;VALUE=DURATION:PT1440M
X-PUBLISHED-TTL:PT1440M
BEGIN:VTIMEZONE
TZID:Etc/GMT+0
BEGIN:STANDARD
DTSTART:20250703T000000Z
TZOFFSETFROM:+0000
TZOFFSETTO:+0000
END:STANDARD
END:VTIMEZONE
BEGIN:VTIMEZONE
TZID:UTC
BEGIN:STANDARD
DTSTART:20250728T043406Z
TZOFFSETFROM:+0000
TZOFFSETTO:+0000
END:STANDARD
END:VTIMEZONE
BEGIN:VEVENT
UID:179-178
DTSTAMP:20260424T043406Z
SUMMARY:UKSG 49th Annual Conference
LOCATION:
ORGANIZER;CN=admin:MAILTO:admin@openscience.cz
DTSTART;TZID=Etc/GMT+0;VALUE=DATE:20260330
DTEND;TZID=Etc/GMT+0;VALUE=DATE:20260402
X-ALT-DESC;FMTTYPE=TEXT/HTML:<p>Místo konání: Scottish Event Campus (SEC
 )\, Glasgow (Velká Británie)</p>\n<p>Program konference a možnost regis
 trace jsou k dispozici na <a href="https://www.uksg.org/events/conference
 26/" target="_blank">webové stránce konference</a>.</p>\n
CATEGORIES:
URL;VALUE=URI:https://openscience.cz/mc-events/uksg-49th-annual-conference/
 ?mc_id=179
END:VEVENT
END:VCALENDAR