BEGIN:VCALENDAR
VERSION:2.0
PRODID:spatie/icalendar-generator
DESCRIPTION:Events from Národní platforma Open Science
X-WR-CALDESC:Events from Národní platforma Open Science
REFRESH-INTERVAL;VALUE=DURATION:PT1440M
X-PUBLISHED-TTL:PT1440M
BEGIN:VTIMEZONE
TZID:Etc/GMT+0
BEGIN:STANDARD
DTSTART:20250615T000000Z
TZOFFSETFROM:+0000
TZOFFSETTO:+0000
END:STANDARD
END:VTIMEZONE
BEGIN:VTIMEZONE
TZID:UTC
BEGIN:STANDARD
DTSTART:20250723T181902Z
TZOFFSETFROM:+0000
TZOFFSETTO:+0000
END:STANDARD
END:VTIMEZONE
BEGIN:VEVENT
UID:187-185
DTSTAMP:20260419T181902Z
SUMMARY:ENOEL Workshop series
LOCATION:
ORGANIZER;CN=admin:MAILTO:admin@openscience.cz
DTSTART;TZID=Etc/GMT+0;VALUE=DATE:20260312
DTEND;TZID=Etc/GMT+0;VALUE=DATE:20260313
X-ALT-DESC;FMTTYPE=TEXT/HTML:<p>Pořadatelé: SPARC Europe a European Netwo
 rk of Open Education Librarians (ENOEL)</p>\n<p>Bližší informace a mož
 nost registrace jsou k dispozici na <a href="https://us02web.zoom.us/meet
 ing/register/mleZkoucRka6C9OcoOPZtA#/registration" target="_blank">webo
 vé stránce workshopu</a>.</p>\n
CATEGORIES:
URL;VALUE=URI:https://openscience.cz/mc-events/enoel-workshop-series/?mc_id
 =187
END:VEVENT
END:VCALENDAR