BEGIN:VCALENDAR
VERSION:2.0
PRODID:spatie/icalendar-generator
DESCRIPTION:Events from Národní platforma Open Science
X-WR-CALDESC:Events from Národní platforma Open Science
REFRESH-INTERVAL;VALUE=DURATION:PT1440M
X-PUBLISHED-TTL:PT1440M
BEGIN:VTIMEZONE
TZID:Etc/GMT+0
BEGIN:STANDARD
DTSTART:20250623T000000Z
TZOFFSETFROM:+0000
TZOFFSETTO:+0000
END:STANDARD
END:VTIMEZONE
BEGIN:VTIMEZONE
TZID:UTC
BEGIN:STANDARD
DTSTART:20250723T133159Z
TZOFFSETFROM:+0000
TZOFFSETTO:+0000
END:STANDARD
END:VTIMEZONE
BEGIN:VEVENT
UID:188-186
DTSTAMP:20260419T133159Z
SUMMARY:The Guild lecture on Academic Freedom – Balancing openness and se
 curity in the ERA Act
LOCATION:
ORGANIZER;CN=admin:MAILTO:admin@openscience.cz
DTSTART;TZID=Etc/GMT+0;VALUE=DATE:20260320
DTEND;TZID=Etc/GMT+0;VALUE=DATE:20260321
X-ALT-DESC;FMTTYPE=TEXT/HTML:<p>Pořadatel: The Guild</p>\n<p>Místo konán
 í: Permanent Representation of Estonia to the EU\, Brusel (Belgie)</p>\n<p>Bližší informace a možnost registrace jsou k dispozici na <a href="https://www.the-guild.eu/events/2026/the-guild-lecture-on-academic-freedom
 ---balancing-.html" target="_blank">webové stránce události</a>.</p>
 \n
CATEGORIES:
URL;VALUE=URI:https://openscience.cz/mc-events/the-guild-lecture-on-academi
 c-freedom-balancing-openness-and-security-in-the-era-act/?mc_id=188
END:VEVENT
END:VCALENDAR