BEGIN:VCALENDAR
VERSION:2.0
PRODID:spatie/icalendar-generator
DESCRIPTION:Events from Národní platforma Open Science
X-WR-CALDESC:Events from Národní platforma Open Science
REFRESH-INTERVAL;VALUE=DURATION:PT1440M
X-PUBLISHED-TTL:PT1440M
BEGIN:VTIMEZONE
TZID:Etc/GMT+0
BEGIN:STANDARD
DTSTART:20241206T000000Z
TZOFFSETFROM:+0000
TZOFFSETTO:+0000
END:STANDARD
END:VTIMEZONE
BEGIN:VTIMEZONE
TZID:UTC
BEGIN:STANDARD
DTSTART:20250723T140651Z
TZOFFSETFROM:+0000
TZOFFSETTO:+0000
END:STANDARD
END:VTIMEZONE
BEGIN:VEVENT
UID:53-53
DTSTAMP:20260419T140651Z
SUMMARY:Doctoral Summer School
LOCATION:NTK - Národní technická knihovna Technická 6  Praha  16000
ORGANIZER;CN=admin:MAILTO:admin@openscience.cz
DTSTART;TZID=Etc/GMT+0;VALUE=DATE:20250902
DTEND;TZID=Etc/GMT+0;VALUE=DATE:20250904
X-ALT-DESC;FMTTYPE=TEXT/HTML:<p>Letní škola pro začínající vědce a v
 ýzkumníky pořádaná <a href="https://www.techlib.cz/cs/" target="_b
 lank">Národní technickou knihovnou</a>.</p>\n
CATEGORIES:
URL;VALUE=URI:https://openscience.cz/mc-events/doctoral-summer-school/?mc_i
 d=53
END:VEVENT
END:VCALENDAR