BEGIN:VCALENDAR
VERSION:2.0
PRODID:spatie/icalendar-generator
DESCRIPTION:Events from Národní platforma Open Science
X-WR-CALDESC:Events from Národní platforma Open Science
REFRESH-INTERVAL;VALUE=DURATION:PT1440M
X-PUBLISHED-TTL:PT1440M
BEGIN:VTIMEZONE
TZID:Etc/GMT+0
BEGIN:STANDARD
DTSTART:20241003T000000Z
TZOFFSETFROM:+0000
TZOFFSETTO:+0000
END:STANDARD
END:VTIMEZONE
BEGIN:VTIMEZONE
TZID:UTC
BEGIN:STANDARD
DTSTART:20250723T205645Z
TZOFFSETFROM:+0000
TZOFFSETTO:+0000
END:STANDARD
END:VTIMEZONE
BEGIN:VEVENT
UID:59-59
DTSTAMP:20260419T205645Z
SUMMARY:Metascience 2025 Conference
LOCATION:University College London Gower Street  London  WC1E 6BT
ORGANIZER;CN=admin:MAILTO:admin@openscience.cz
DTSTART;TZID=Etc/GMT+0;VALUE=DATE:20250630
DTEND;TZID=Etc/GMT+0;VALUE=DATE:20250703
X-ALT-DESC;FMTTYPE=TEXT/HTML:<p>Pořadatel: Center for Open Science (COS)</
 p>\n<p>Bližší informace naleznete na <a href="https://metascience.info
 /" target="_blank">webu konference</a>.</p>\n
CATEGORIES:
URL;VALUE=URI:https://openscience.cz/mc-events/metascience-2025-conference/
 ?mc_id=59
END:VEVENT
END:VCALENDAR