BEGIN:VCALENDAR
VERSION:2.0
PRODID:spatie/icalendar-generator
DESCRIPTION:Events from Národní platforma Open Science
X-WR-CALDESC:Events from Národní platforma Open Science
REFRESH-INTERVAL;VALUE=DURATION:PT1440M
X-PUBLISHED-TTL:PT1440M
BEGIN:VTIMEZONE
TZID:Etc/GMT+0
BEGIN:STANDARD
DTSTART:20250107T000000Z
TZOFFSETFROM:+0000
TZOFFSETTO:+0000
END:STANDARD
END:VTIMEZONE
BEGIN:VTIMEZONE
TZID:UTC
BEGIN:STANDARD
DTSTART:20250723T182851Z
TZOFFSETFROM:+0000
TZOFFSETTO:+0000
END:STANDARD
END:VTIMEZONE
BEGIN:VEVENT
UID:60-60
DTSTAMP:20260419T182851Z
SUMMARY:Enabling Research Innovation – How COS makes it possible for rese
 archers to practice open science
LOCATION:
ORGANIZER;CN=admin:MAILTO:admin@openscience.cz
DTSTART;TZID=Etc/GMT+0;VALUE=DATE:20251004
DTEND;TZID=Etc/GMT+0;VALUE=DATE:20251005
X-ALT-DESC;FMTTYPE=TEXT/HTML:<p>Online</p>\n<p>Pořadatel: Center for Open 
 Science (COS)</p>\n<p>Bližší informace naleznete na <a href="https://w
 ww.cos.io/supporter-engagement-series" target="_blank">webu události</
 a>.</p>\n
CATEGORIES:
URL;VALUE=URI:https://openscience.cz/mc-events/enabling-research-innovation
 -how-cos-makes-it-possible-for-researchers-to-practice-open-science/?mc_id
 =60
END:VEVENT
END:VCALENDAR