BEGIN:VCALENDAR
VERSION:2.0
PRODID:spatie/icalendar-generator
DESCRIPTION:Events from Národní platforma Open Science
X-WR-CALDESC:Events from Národní platforma Open Science
REFRESH-INTERVAL;VALUE=DURATION:PT1440M
X-PUBLISHED-TTL:PT1440M
BEGIN:VTIMEZONE
TZID:Etc/GMT+0
BEGIN:STANDARD
DTSTART:20240704T000000Z
TZOFFSETFROM:+0000
TZOFFSETTO:+0000
END:STANDARD
END:VTIMEZONE
BEGIN:VTIMEZONE
TZID:UTC
BEGIN:STANDARD
DTSTART:20250727T222605Z
TZOFFSETFROM:+0000
TZOFFSETTO:+0000
END:STANDARD
END:VTIMEZONE
BEGIN:VEVENT
UID:74-74
DTSTAMP:20260423T222605Z
SUMMARY:Future of ESFRI in a new ERA
LOCATION:
ORGANIZER;CN=admin:MAILTO:admin@openscience.cz
DTSTART;TZID=Etc/GMT+0;VALUE=DATE:20250331
DTEND;TZID=Etc/GMT+0;VALUE=DATE:20250402
X-ALT-DESC;FMTTYPE=TEXT/HTML:<p>Bližší informace jsou k dispozici na <a href="https://www.esfri.eu/esfri-events/future-esfri-new-era" target="_
 blank">webu událost</a>.</p>\n
CATEGORIES:
URL;VALUE=URI:https://openscience.cz/mc-events/future-of-esfri-in-a-new-era
 /?mc_id=74
END:VEVENT
END:VCALENDAR