BEGIN:VCALENDAR
VERSION:2.0
PRODID:spatie/icalendar-generator
DESCRIPTION:Events from Národní platforma Open Science
X-WR-CALDESC:Events from Národní platforma Open Science
REFRESH-INTERVAL;VALUE=DURATION:PT1440M
X-PUBLISHED-TTL:PT1440M
BEGIN:VTIMEZONE
TZID:Etc/GMT+0
BEGIN:STANDARD
DTSTART:20240824T000000Z
TZOFFSETFROM:+0000
TZOFFSETTO:+0000
END:STANDARD
END:VTIMEZONE
BEGIN:VTIMEZONE
TZID:UTC
BEGIN:STANDARD
DTSTART:20250724T180004Z
TZOFFSETFROM:+0000
TZOFFSETTO:+0000
END:STANDARD
END:VTIMEZONE
BEGIN:VEVENT
UID:76-76
DTSTAMP:20260420T180004Z
SUMMARY:Research Data Day &amp;amp\; EOSC National Tripartite Event
LOCATION:
ORGANIZER;CN=admin:MAILTO:admin@openscience.cz
DTSTART;TZID=Etc/GMT+0;VALUE=DATE:20250521
DTEND;TZID=Etc/GMT+0;VALUE=DATE:20250523
X-ALT-DESC;FMTTYPE=TEXT/HTML:<p>Bližší informace naleznete na <a href="https://www.eosc.cz/novinky-a-akce/kalendar-akci/national-tripartite-event
 -cz-25" target="_blank">webu události</a>.</p>\n
CATEGORIES:
URL;VALUE=URI:https://openscience.cz/mc-events/research-data-day-eosc-natio
 nal-tripartite-event/?mc_id=76
END:VEVENT
END:VCALENDAR