BEGIN:VCALENDAR
VERSION:2.0
PRODID:spatie/icalendar-generator
DESCRIPTION:Events from Národní platforma Open Science
X-WR-CALDESC:Events from Národní platforma Open Science
REFRESH-INTERVAL;VALUE=DURATION:PT1440M
X-PUBLISHED-TTL:PT1440M
BEGIN:VTIMEZONE
TZID:Etc/GMT+0
BEGIN:STANDARD
DTSTART:20240705T000000Z
TZOFFSETFROM:+0000
TZOFFSETTO:+0000
END:STANDARD
END:VTIMEZONE
BEGIN:VTIMEZONE
TZID:UTC
BEGIN:STANDARD
DTSTART:20250727T204717Z
TZOFFSETFROM:+0000
TZOFFSETTO:+0000
END:STANDARD
END:VTIMEZONE
BEGIN:VEVENT
UID:79-79
DTSTAMP:20260423T204717Z
SUMMARY:Metadata Introduction &amp;amp\; Metadata “HealthCheck” – Webinar
  with Crossref
LOCATION:
ORGANIZER;CN=admin:MAILTO:admin@openscience.cz
DTSTART;TZID=Etc/GMT+0;VALUE=DATE:20250401
DTEND;TZID=Etc/GMT+0;VALUE=DATE:20250402
X-ALT-DESC;FMTTYPE=TEXT/HTML:<p>Online</p>\n<p>Pořadatel: EOSC</p>\n<p>Bli
 žší informace naleznete na <a href="https://www.craft-oa.eu/metadata-i
 ntroduction-metadata-healthcheck-webinar-with-crossref/" target="_blank\
 ">webu události</a>.</p>\n
CATEGORIES:
URL;VALUE=URI:https://openscience.cz/mc-events/metadata-introduction-metada
 ta-healthcheck-webinar-with-crossref/?mc_id=79
END:VEVENT
END:VCALENDAR