BEGIN:VCALENDAR
VERSION:2.0
PRODID:spatie/icalendar-generator
DESCRIPTION:Events from Národní platforma Open Science
X-WR-CALDESC:Events from Národní platforma Open Science
REFRESH-INTERVAL;VALUE=DURATION:PT1440M
X-PUBLISHED-TTL:PT1440M
BEGIN:VTIMEZONE
TZID:Etc/GMT+0
BEGIN:STANDARD
DTSTART:20241226T000000Z
TZOFFSETFROM:+0000
TZOFFSETTO:+0000
END:STANDARD
END:VTIMEZONE
BEGIN:VTIMEZONE
TZID:UTC
BEGIN:STANDARD
DTSTART:20250723T215204Z
TZOFFSETFROM:+0000
TZOFFSETTO:+0000
END:STANDARD
END:VTIMEZONE
BEGIN:VEVENT
UID:84-84
DTSTAMP:20260419T215204Z
SUMMARY:OASPA 2025 conference – Embracing the Complexity – how do we ge
 t to 100% OA?
LOCATION:
ORGANIZER;CN=admin:MAILTO:admin@openscience.cz
DTSTART;TZID=Etc/GMT+0;VALUE=DATE:20250922
DTEND;TZID=Etc/GMT+0;VALUE=DATE:20250925
X-ALT-DESC;FMTTYPE=TEXT/HTML:<p>Bližší informace naleznete na <a href="https://www.oaspa.org/events/annualconference/" target="_blank">webu ko
 nference</a>.</p>\n
CATEGORIES:
URL;VALUE=URI:https://openscience.cz/mc-events/oaspa-2025-conference-embrac
 ing-the-complexity-how-do-we-get-to-100-oa/?mc_id=84
END:VEVENT
END:VCALENDAR