BEGIN:VCALENDAR
VERSION:2.0
PRODID:spatie/icalendar-generator
DESCRIPTION:Events from Národní platforma Open Science
X-WR-CALDESC:Events from Národní platforma Open Science
REFRESH-INTERVAL;VALUE=DURATION:PT1440M
X-PUBLISHED-TTL:PT1440M
BEGIN:VTIMEZONE
TZID:Etc/GMT+0
BEGIN:STANDARD
DTSTART:20240802T000000Z
TZOFFSETFROM:+0000
TZOFFSETTO:+0000
END:STANDARD
END:VTIMEZONE
BEGIN:VTIMEZONE
TZID:UTC
BEGIN:STANDARD
DTSTART:20250725T032909Z
TZOFFSETFROM:+0000
TZOFFSETTO:+0000
END:STANDARD
END:VTIMEZONE
BEGIN:VEVENT
UID:95-95
DTSTAMP:20260421T032909Z
SUMMARY:OP JAK Seminář pro příjemce – Správa výzkumných dat s Data
  Stewardship Wizard
LOCATION:
ORGANIZER;CN=admin:MAILTO:admin@openscience.cz
DTSTART;TZID=Etc/GMT+0;VALUE=DATE:20250429
DTEND;TZID=Etc/GMT+0;VALUE=DATE:20250430
X-ALT-DESC;FMTTYPE=TEXT/HTML:<p>Bližší informace a možnost registrace j
 sou k dispozici na <a href="https://opjak.cz/events/seminar-pro-prijemce-
 sprava-vyzkumnych-dat-s-data-stewardship-wizard/" target="_blank">webu 
 události</a>.</p>\n<p>Záznam semináře je k dispozici na <a href="https://www.youtube.com/watch?v=6zU8k-yAkbc" target="_blank">YouTube</a>\, 
 další podklady (prezentace) ze semináře jsou dostupné v Dokumentech v
  sekci <a href="https://opjak.cz/dokumenty/otevrena-veda/" target="_bla
 nk">Otevřená věda</a> na webu OP JAK.</p>\n
CATEGORIES:
URL;VALUE=URI:https://openscience.cz/mc-events/op-jak-seminar-pro-prijemce-
 sprava-vyzkumnych-dat-s-data-stewardship-wizard/?mc_id=95
END:VEVENT
END:VCALENDAR